BEGIN:VCALENDAR
VERSION:2.0
PRODID:-//Festival de la guitarra - ECPv5.3.2.1//NONSGML v1.0//EN
CALSCALE:GREGORIAN
METHOD:PUBLISH
X-WR-CALNAME:Festival de la guitarra
X-ORIGINAL-URL:https://teatrocordoba.es/festival-guitarra-cordoba
X-WR-CALDESC:Eventos para Festival de la guitarra
BEGIN:VTIMEZONE
TZID:UTC
BEGIN:STANDARD
TZOFFSETFROM:+0000
TZOFFSETTO:+0000
TZNAME:UTC
DTSTART:20240101T000000
END:STANDARD
END:VTIMEZONE
BEGIN:VEVENT
DTSTART;TZID=UTC:20240713T220000
DTEND;TZID=UTC:20240713T220000
DTSTAMP:20260424T014258
CREATED:20240506T051558Z
LAST-MODIFIED:20240507T082719Z
UID:7631-1720908000-1720908000@teatrocordoba.es
SUMMARY:DORO + ECLIPSE
DESCRIPTION:Programa doble de rock  para la última noche del  Festival de la Guitarra de Córdoba. Dos propuestas internacionales protagonizadas por DORO y ECLIPSE .  \n  \nFICHA ARTÍSTICA:  \nDORO:  \nDoro Pesch – Voz\nJohnny Dee – Batería\nBas Maas – Guitarra\nBill Hudson – Guitarra\nStefan Herkenhoff – Bajo  \nECLIPSE:\nErik Mårtensson – Vocal & Guitarra\nMagnus Henriksson – Guitarra\nVictor Crusner – Bajo\nPhilip Crusner – Batería \n  \n Doro Pesch\, conocida como la Reina del Metal\, ha sido una figura emblemática e incuestionable en la escena del heavy metal desde principios de los años 80’. En 2023\, celebró 40 años de carrera con el lanzamiento de su último álbum de estudio “Conqueress – Forever Strong and Proud“. Desde sus comienzos en 1983 con el álbum debut de WARLOCK\, «Burning The Witches»\, Doro se destacó como una líder consumada del metal\, con una voz poderosa y carisma ilimitado. Su gran avance llegó en 1986 cuando WARLOCK actuó en el festival Monsters Of Rock\, consolidando su estatus icónico como la primera mujer en pisar el escenario de dicho festival. Reconocida con numerosos premios y honores\, incluido el Premio a su trayectoria\, Doro ha realizado más de 3\,000 conciertos en más de 60 países. Además de sus propias composiciones\, Doro ha colaborado con leyendas del metal como Rob Halford de JUDAS PRIEST. Con su dedicación a la música y su conexión con los fans\, Doro continúa siendo una fuerza imparable en el mundo del metal. Su legado perdurará mientras siga conquistando escenarios alrededor del mundo\, manteniendo viva la esencia del rock n’ roll y demostrando que la Conquistadora está aquí para quedarse.  \nEclipse\, que abrirá el concierto de esta noche\,  es la banda moderna de rock melódico sueca por antonomasia. Han surgido como una fuerza dominante en la escena musical internacional\, cautivando fans de todo el mundo con su energía\, talento y distintivo sonido. Desde sus  comienzos  a finales de los años 90’\, Eclipse ha evolucionado para convertirse en un referente del género\, conquistando el corazón del público rockero con su enfoque innovador y su habilidad para fusionar melodías pegadizas con potentes riffs. Sus últimos álbumes de estudio\, «Paradigm» (2019)\,“Monumentum” (2021) y “Wired” (2022) son un testimonio de esta evolución.. En 2023\, lanzaron su último trabajo “Megalomanium”\,en el que sin abandonar su esencia más hard rockera\, se atreven a explorar nuevos sonidos que han seguido conquistando a todos aquellos que los escuchan. Eclipse se encuentra en la cúspide de su creatividad\, listos para llevar su música a nuevas fronteras y seguir aglutinando una legión de fans en todo el mundo. 
URL:https://teatrocordoba.es/festival-guitarra-cordoba/eventos/doro-eclipse/
LOCATION:Teatro La Axerquía\, Avda Menendez Pidal S/N\, Córdoba\, Córdoba\, 14004\, España
CATEGORIES:Teatro de la Axerquía 2024
ATTACH;FMTTYPE=image/png:https://teatrocordoba.es/festival-guitarra-cordoba/wp-content/uploads/2024/05/DOROECLIPSE-790X476.png
END:VEVENT
END:VCALENDAR