BEGIN:VCALENDAR
VERSION:2.0
PRODID:-//Festival de la guitarra - ECPv5.3.2.1//NONSGML v1.0//EN
CALSCALE:GREGORIAN
METHOD:PUBLISH
X-WR-CALNAME:Festival de la guitarra
X-ORIGINAL-URL:https://teatrocordoba.es/festival-guitarra-cordoba
X-WR-CALDESC:Eventos para Festival de la guitarra
BEGIN:VTIMEZONE
TZID:UTC
BEGIN:STANDARD
TZOFFSETFROM:+0000
TZOFFSETTO:+0000
TZNAME:UTC
DTSTART:20230101T000000
END:STANDARD
END:VTIMEZONE
BEGIN:VEVENT
DTSTART;TZID=UTC:20230714T203000
DTEND;TZID=UTC:20230714T203000
DTSTAMP:20260426T031521
CREATED:20230414T124946Z
LAST-MODIFIED:20230622T080901Z
UID:6178-1689366600-1689366600@teatrocordoba.es
SUMMARY:ISRAEL FERNÁNDEZ: "Pura sangre"
DESCRIPTION:La tradición y la vanguardia están presentes en “Pura Sangre”\, título del concierto del joven cantaor Israel Fernández\, su obra más personal. Un trabajo introspectivo en el que Israel descubre su manera de sentir y relacionarse con su universo más cercano: la familia\, la cultura gitana\, el amor\, la naturaleza\, los valores humanos y su yo más profundo. Israel compone cada una de las letras y melodías que conforman los cantes. Lo hace desde esa base firme y amplia en registros que hereda de la tradición y a la que aporta la creatividad con la que lleva deslumbrando al mundo del flamenco\, tanto en sus grabaciones como en sus directos. Le acompaña en este proyecto el jerezano “Diego del Morao”\, uno de los guitarristas más influyentes en la actualidad. Carisma\, talento y frescura caracterizan a esta pareja icónica en el ámbito del flamenco. \nISRAEL FERNÁNDEZ\, cante \nDIEGO DEL MORAO\, guitarra \nAné Carrasco\, percusión y teclados \nMarcos Carpio y Pirulo\, palmas
URL:https://teatrocordoba.es/festival-guitarra-cordoba/eventos/israel-fernandez/
LOCATION:Gran Teatro\, Avda Gran Capitán\, 3\, Córdoba\, Córdoba\, 14008\, España
CATEGORIES:Gran Teatro 2023
ATTACH;FMTTYPE=image/png:https://teatrocordoba.es/festival-guitarra-cordoba/wp-content/uploads/2023/04/ISRAEL-FERNANDEZ-1.png
ORGANIZER;CN="IMAE":MAILTO:comunicacion@teatrocordoba.org
END:VEVENT
END:VCALENDAR