BEGIN:VCALENDAR
VERSION:2.0
PRODID:-//Festival de la guitarra - ECPv5.3.2.1//NONSGML v1.0//EN
CALSCALE:GREGORIAN
METHOD:PUBLISH
X-WR-CALNAME:Festival de la guitarra
X-ORIGINAL-URL:https://teatrocordoba.es/festival-guitarra-cordoba
X-WR-CALDESC:Eventos para Festival de la guitarra
BEGIN:VTIMEZONE
TZID:UTC
BEGIN:STANDARD
TZOFFSETFROM:+0000
TZOFFSETTO:+0000
TZNAME:UTC
DTSTART:20260101T000000
END:STANDARD
END:VTIMEZONE
BEGIN:VEVENT
DTSTART;TZID=UTC:20260708T213000
DTEND;TZID=UTC:20260708T213000
DTSTAMP:20260421T215107
CREATED:20260218T104247Z
LAST-MODIFIED:20260218T130512Z
UID:9078-1783546200-1783546200@teatrocordoba.es
SUMMARY:LUZ CASAL - Nat Simons & Aurora Beltrán
DESCRIPTION:Luz Casal presenta en gira su nuevo disco ‘Me voy a permitir’\, el trabajo más ecléctico e inclasificable de su carrera\, se concede el antojo de mostrar diez caras\, tantas como canciones: diez actitudes\, diez miradas\, diez formas de entender el mundo. Se mueve con la libertad de quien ya no tiene que demostrar nada. Enseña sus cartas como dama de la chanson francesa y voz contemporánea del cancionero latinoamericano. Como cronista de lo cotidiano y rockera que jamás colgó los pantalones de cuero. Ya lo advirtió Pablo Guerrero: “Luz puede acariciar como la seda o desgarrar como los colmillos de un animal herido. Capaz de cantar desde el despecho o la esperanza\, canalla o luminosa\, libérrima siempre”. \nEste nuevo espectáculo es un puente entre pasado y futuro\, certifica su doble condición de compositora intuitiva y talentosa e intérprete excepcional\, capaz no solo de cantar sino de habitar las canciones\, sean suyas o ajenas. \nAjena a la pirotecnia y los artificios\, se permite no seguir más señales que las de su propio instinto\, una libertad que le ha brindado la admiración del público\, el respeto de la crítica y la complicidad de sus colegas\, un triple reconocimiento que se produce en contadas ocasiones. \nFicha técnica\nLuz Casal\nTino di Geraldo\nJorge F. Ojea\nPeter Oteo\nJM Baldoma “Baldo”\nBorja Montenegro \n \nNat Simons & Aurora Beltrán\nEsta pequeña gira supone la unión de dos grandes representantes femeninas del rock de diferentes generaciones. Un espectáculo único que supone toda una reivindicación de la mujer en el mundo del rock y que comenzó con la colaboración de Aurora en el disco “Felinas” de Nat Simons donde repasaba sus temas y versiones a dueto con otras artistas como Anni B Sweet o Nina de Juan (Morgan). El disco tuvo una gran acogida con el single “Déjalo Ser”\, la adaptación rockera de “No Me Importa Nada” (Luz Casal) o “Llámame (Call Me)” de Blondie. Además\, Nat Simons ha colaborado con artistas nacionales e internacionales como Cherie Currie (The Runaways)\, Morgan\, Loquillo\, Vega\, Depedro\, Tarque (M-Clan)\, Lapido (091)\, Tommy Stinson (Guns N’ Roses\, Replacements)\, The Jayhawks o las jóvenes Repion. \nEsta vez\, Nat presenta también canciones de su nuevo disco\, grabado en Nashville con los productores Álex Muñoz (Margo Price\, John Hiatt) y Jaquire King (Bruce Springsteen\, Kings of Leon\, Norah Jones\, Tom Waits) que le va a consolidar como una de las grandes realidades del rock y pop cantado en español. Nat Simons recientemente\, ha llenado en dos ocasiones la sala del Movistar Arena (el palacio de los deportes de Madrid anteriormente conocido como Wizink). \nPor su parte\, Aurora Beltrán tiene un infalible repertorio de éxitos entre Tahúres Zurdos y su carrera en solitario. Además\, acaba de publicar un libro y muy pronto se estrenará un documental sobre su importante e influyente figura en la música. \nBanda musical\nLaura Solla\, virtuosa guitarrista que ha tocado con artistas desde Ariel Rot\, pasando por Aitana hasta los mismísimos Coldplay. El aragonés Ánchel Sol (Cherie Currie\, Ángel Altolaguirre\, Amòrica) a la guitarra rítmica\, Pablo Rodas (Sex Museum\, Loquillo\, Bellrays) al bajo y Mariana Pérez (Leiva\, Maika Makovski) a la batería. \n  \n**Para este concierto no se aplican descuentos. \n  \n\n\n\n\nDisponemos de mochilas vibratorias\, para personas con discapacidad auditiva. Solicitar al menos con un mínimo de 72 horas previas al espectáculo\, solicitándolo a  g_protocolo.imae@ayuncordoba.es
URL:https://teatrocordoba.es/festival-guitarra-cordoba/eventos/luz-casal-y-artista-invitada-nat-simons-aurora-beltran/
LOCATION:Teatro La Axerquía\, Avda Menendez Pidal S/N\, Córdoba\, Córdoba\, 14004\, España
CATEGORIES:Teatro de la Axerquía 2026
ATTACH;FMTTYPE=image/png:https://teatrocordoba.es/festival-guitarra-cordoba/wp-content/uploads/2026/02/WEB-LUZ-CASAL-.png
END:VEVENT
END:VCALENDAR