BEGIN:VCALENDAR
VERSION:2.0
PRODID:-//Festival de la guitarra - ECPv5.3.2.1//NONSGML v1.0//EN
CALSCALE:GREGORIAN
METHOD:PUBLISH
X-WR-CALNAME:Festival de la guitarra
X-ORIGINAL-URL:https://teatrocordoba.es/festival-guitarra-cordoba
X-WR-CALDESC:Eventos para Festival de la guitarra
BEGIN:VTIMEZONE
TZID:UTC
BEGIN:STANDARD
TZOFFSETFROM:+0000
TZOFFSETTO:+0000
TZNAME:UTC
DTSTART:20230101T000000
END:STANDARD
END:VTIMEZONE
BEGIN:VEVENT
DTSTART;TZID=UTC:20230715T203000
DTEND;TZID=UTC:20230715T203000
DTSTAMP:20260425T234107
CREATED:20230414T124829Z
LAST-MODIFIED:20230705T105111Z
UID:6180-1689453000-1689453000@teatrocordoba.es
SUMMARY:SUSANA BACA: "Palabras urgentes"
DESCRIPTION:Palabras Urgentes \nLlegar a los 79 años de edad\, es tomar el tiempo en tus manos\, es ya no pensar en la complacencia de agradar al otro\, sino pensar en lo que amas y decirlo sin contemplaciones… A los 79 años se mira el mundo con otra luz y es esto\, lo que contiene este disco. \nLa selección de las 10 canciones que están grabadas\, casi todas\, premonitoriamente a este tiempo doloroso que vive nuestra humanidad\, junta la música que hay en mí desde mis raíces\, con las palabras urgentes\, este álbum es una verdad madurada y acariciada. \nEn este disco\, mezclo la esperanza y la denuncia\, con los músicos\, hacemos que nuestros sonidos sean la música de siempre\, pero nueva. Este disco es la renovación musical de una tradición\, pero entendida con el corazón de todos los que participaron con todo su talento. \nPalabras Urgentes\, son muchas verdades. Michael League en la producción musical\, hace que este disco tenga propuestas y desafíos. Mi espíritu pone lo demás. \nOjalá que la gente que escuche este disco\, sienta el amor a la vida y también el amor a la verdad de vivir. \nSUSANA BACA\, voz \nALVIN HUARANGA\, bajo \nJOSE VICENTE\, piano \nRENZO VIGNATI\, guitarra \nPEDRO AVILA\, violín \nJONATHAN MENDOZA\, guitarra \nMANUEL MEJIA (b-vocals) \nHUGO BRAVO\, percusión \nDescargar dossier
URL:https://teatrocordoba.es/festival-guitarra-cordoba/eventos/susana-baca/
LOCATION:Gran Teatro\, Avda Gran Capitán\, 3\, Córdoba\, Córdoba\, 14008\, España
CATEGORIES:Gran Teatro 2023
ATTACH;FMTTYPE=image/png:https://teatrocordoba.es/festival-guitarra-cordoba/wp-content/uploads/2023/04/susana-baca-2.png
ORGANIZER;CN="IMAE":MAILTO:comunicacion@teatrocordoba.org
END:VEVENT
END:VCALENDAR