BEGIN:VCALENDAR
VERSION:2.0
PRODID:-//Festival de la guitarra - ECPv5.3.2.1//NONSGML v1.0//EN
CALSCALE:GREGORIAN
METHOD:PUBLISH
X-WR-CALNAME:Festival de la guitarra
X-ORIGINAL-URL:https://teatrocordoba.es/festival-guitarra-cordoba
X-WR-CALDESC:Eventos para Festival de la guitarra
BEGIN:VTIMEZONE
TZID:UTC
BEGIN:STANDARD
TZOFFSETFROM:+0000
TZOFFSETTO:+0000
TZNAME:UTC
DTSTART:20230101T000000
END:STANDARD
END:VTIMEZONE
BEGIN:VEVENT
DTSTART;TZID=UTC:20230712T203000
DTEND;TZID=UTC:20230712T203000
DTSTAMP:20260420T144316
CREATED:20230414T125252Z
LAST-MODIFIED:20230421T072526Z
UID:6175-1689193800-1689193800@teatrocordoba.es
SUMMARY:ZENET: "La estación del momento"
DESCRIPTION:En la estación del momento\, Zenet experimenta con una nueva paleta de colores\, sin dejar de ser el mismo integra la electrónica al servicio de su estilo. De una forma natural\, sin sentirse forzada\, convive perfectamente con sus referencias del Jazz y el R&B. En la producción musical colabora con Kumar Sublevao Beat; músico cubano con raíces en el Hip Hop\, que se encarga de acompañarle en esta aventura. \nDueño de un estilo único y una voz reconocible\, como solo son reconocibles los artistas especiales\, Zenet hace suyo todos los géneros que aborda. En este nuevo trabajo\, que verá la luz el próximo mes de mayo bajo el título “La Estación del momento”\, experimenta con una nueva paleta de colores; sin dejar de ser el mismo\, integra la electrónica al servicio de su estilo. En este concierto no faltarán sus grandes éxitos acompañado de un elenco de músicos de auténtico lujo. \nZENET: voz \nJosé Taboada: guitarra \nManuel Machado: trompeta \nRaúl Márquez: violín \nLila Horovich: contrabajo \nMoisés Porro: batería \nPepe Rivero: piano \nOve Larsson: trombón \nAaron Pozon: saxo
URL:https://teatrocordoba.es/festival-guitarra-cordoba/eventos/zenet/
LOCATION:Gran Teatro\, Avda Gran Capitán\, 3\, Córdoba\, Córdoba\, 14008\, España
CATEGORIES:Gran Teatro 2023
ATTACH;FMTTYPE=image/png:https://teatrocordoba.es/festival-guitarra-cordoba/wp-content/uploads/2023/04/ZENET.png
ORGANIZER;CN="IMAE":MAILTO:comunicacion@teatrocordoba.org
END:VEVENT
END:VCALENDAR